BEGIN:VCALENDAR
VERSION:2.0
CREATED:20210719T192521Z
PRODID:-//CarParts.com\, Inc./Equisolve Calendar v1.0//EN
METHOD:PUBLISH
BEGIN:VEVENT
UID:605fe76a1e363675f9518a5ecc8907f5
DTSTAMP:20260423T225309Z
DTSTART:20210805T210000Z
DTEND:20210805T220000Z
SUMMARY:Second Quarter 2021 Earnings Conference Call
DESCRIPTION:Second Quarter 2021 Earnings Conference Call \n\nDate: Aug 5\, 2021 5:00 pm EDT\n\nWebcast: https://edge.media-server.com/mmc/p/divgv5zv
END:VEVENT
END:VCALENDAR
