BEGIN:VCALENDAR
VERSION:2.0
CREATED:20230410T234129Z
PRODID:-//CarParts.com\, Inc./Equisolve Calendar v1.0//EN
METHOD:PUBLISH
BEGIN:VEVENT
UID:6b6fe6a8839a781ab9dc3f73d8c06f1d
DTSTAMP:20260424T040141Z
DTSTART:20230502T210000Z
DTEND:20230502T220000Z
SUMMARY:First Quarter 2023 Earnings Conference Call
DESCRIPTION:First Quarter 2023 Earnings Conference Call\n\nDate: May 2\, 2023 5:00 pm EDT\n\nWebcast: https://edge.media-server.com/mmc/p/8mvox7ue
END:VEVENT
END:VCALENDAR
