BEGIN:VCALENDAR
VERSION:2.0
CREATED:20260415T190932Z
PRODID:-//CarParts.com\, Inc./Equisolve Calendar v1.0//EN
METHOD:PUBLISH
BEGIN:VEVENT
UID:31caac43b1215ec071e6db4a4d2046f1
DTSTAMP:20260423T142813Z
DTSTART:20260507T210000Z
DTEND:20260507T220000Z
SUMMARY:First Quarter 2026 Earnings Conference Call
DESCRIPTION:First Quarter 2026 Earnings Conference Call\n\nDate: May 7\, 2026 5:00 pm EDT\n\nWebcast: https://edge.media-server.com/mmc/p/9xfrsobm/
END:VEVENT
END:VCALENDAR
